BEGIN:VCALENDAR
VERSION:2.0
PRODID:-//Tukios.com/
BEGIN:VEVENT
UID:6d1cb42c-c6f3-4a44-9854-52423a89d34d@www.fallriverfh.com
DTSTAMP:20260420T090517Z
DTSTART:20260424T003000Z
DTEND:20260424T023000Z
SUMMARY:Visitation
DESCRIPTION:
URL:https://www.fallriverfh.com/obituaries/christopher-poulsen
LOCATION:Kaysville Stake Center 615 North Flint Street  Kaysville UT 
	84037
GEO:41.0444225;-111.9681659
END:VEVENT
END:VCALENDAR