BEGIN:VCALENDAR
VERSION:2.0
PRODID:-//Tukios.com/
BEGIN:VEVENT
UID:e309d425-9f4d-4f6c-8bb8-7e6845b397be@www.fallriverfh.com
DTSTAMP:20260420T090240Z
DTSTART:20260424T170000Z
DTEND:20260424T180000Z
SUMMARY:Funeral Service
DESCRIPTION:
URL:https://www.fallriverfh.com/obituaries/christopher-poulsen
LOCATION:Kaysville Stake Center 615 North Flint Street  Kaysville UT 
	84037
GEO:41.0444225;-111.9681659
END:VEVENT
END:VCALENDAR